BEGIN:VCALENDAR
VERSION:2.0
PRODID:-//Stephanie Sarkis PhD - ECPv6.15.14//NONSGML v1.0//EN
CALSCALE:GREGORIAN
METHOD:PUBLISH
X-WR-CALNAME:Stephanie Sarkis PhD
X-ORIGINAL-URL:https://stephaniesarkis.com
X-WR-CALDESC:Events for Stephanie Sarkis PhD
REFRESH-INTERVAL;VALUE=DURATION:PT1H
X-Robots-Tag:noindex
X-PUBLISHED-TTL:PT1H
BEGIN:VTIMEZONE
TZID:America/New_York
BEGIN:DAYLIGHT
TZOFFSETFROM:-0500
TZOFFSETTO:-0400
TZNAME:EDT
DTSTART:20170312T070000
END:DAYLIGHT
BEGIN:STANDARD
TZOFFSETFROM:-0400
TZOFFSETTO:-0500
TZNAME:EST
DTSTART:20171105T060000
END:STANDARD
BEGIN:DAYLIGHT
TZOFFSETFROM:-0500
TZOFFSETTO:-0400
TZNAME:EDT
DTSTART:20180311T070000
END:DAYLIGHT
BEGIN:STANDARD
TZOFFSETFROM:-0400
TZOFFSETTO:-0500
TZNAME:EST
DTSTART:20181104T060000
END:STANDARD
BEGIN:DAYLIGHT
TZOFFSETFROM:-0500
TZOFFSETTO:-0400
TZNAME:EDT
DTSTART:20190310T070000
END:DAYLIGHT
BEGIN:STANDARD
TZOFFSETFROM:-0400
TZOFFSETTO:-0500
TZNAME:EST
DTSTART:20191103T060000
END:STANDARD
END:VTIMEZONE
BEGIN:VEVENT
DTSTART;TZID=America/New_York:20181017T000000
DTEND;TZID=America/New_York:20181017T000000
DTSTAMP:20260424T112952
CREATED:20181011T005733Z
LAST-MODIFIED:20181011T023352Z
UID:16349-1539734400-1539734400@stephaniesarkis.com
SUMMARY:WNYC “All of It” on Gaslighting
DESCRIPTION:10/17/18 WNYC “All of It”— a new arts & culture show hosted by Alison Stewart.  Time is TBA\nBookmark this page for updates on the details and visit https://www.wnyc.org/shows/all-of-it/ for details. \n  \nSet a reminder:
URL:https://stephaniesarkis.com/event/wnyc-all-of-it/
LOCATION:Online\, United States
CATEGORIES:Gaslighting,Podcast,Radio
END:VEVENT
BEGIN:VEVENT
DTSTART;TZID=America/New_York:20181015T130000
DTEND;TZID=America/New_York:20181015T140000
DTSTAMP:20260424T112952
CREATED:20181011T003700Z
LAST-MODIFIED:20181011T023145Z
UID:16344-1539608400-1539612000@stephaniesarkis.com
SUMMARY:KERA “Think”—Dallas NPR on Gaslighting
DESCRIPTION:10/15/18 KERA “Think”—Dallas NPR\, 1-2pm ET\, live for the hour\, with call-ins.\nBookmark this page for updates on the details and visit http://think.kera.org/ for details. \n  \n  \nSet a reminder:
URL:https://stephaniesarkis.com/event/kera-think-dallas-npr/
LOCATION:Online\, United States
CATEGORIES:Gaslighting,Podcast,Radio
END:VEVENT
END:VCALENDAR